Package: vidger Version: 1.24.0 Command: rm -rf vidger.buildbin-libdir && mkdir vidger.buildbin-libdir && /Users/biocbuild/BBS/utils/build-universal.sh vidger_1.24.0.tar.gz /Library/Frameworks/R.framework/Resources/bin/R vidger.buildbin-libdir StartedAt: 2024-10-17 17:25:55 -0400 (Thu, 17 Oct 2024) EndedAt: 2024-10-17 17:27:38 -0400 (Thu, 17 Oct 2024) EllapsedTime: 102.6 seconds RetCode: 0 Status: OK PackageFile: vidger_1.24.0.tgz PackageFileSize: 8.964 MiB