Package: vidger Version: 1.24.0 Command: /Library/Frameworks/R.framework/Resources/bin/R CMD check --install=check:vidger.install-out.txt --library=/Library/Frameworks/R.framework/Resources/library --no-vignettes --timings vidger_1.24.0.tar.gz StartedAt: 2024-06-09 23:45:48 -0400 (Sun, 09 Jun 2024) EndedAt: 2024-06-09 23:50:11 -0400 (Sun, 09 Jun 2024) EllapsedTime: 263.1 seconds RetCode: 0 Status: OK CheckDir: vidger.Rcheck Warnings: 0