Package: vidger Version: 1.24.0 Command: /Library/Frameworks/R.framework/Resources/bin/R CMD build --keep-empty-dirs --no-resave-data vidger StartedAt: 2024-06-09 18:31:38 -0400 (Sun, 09 Jun 2024) EndedAt: 2024-06-09 18:33:34 -0400 (Sun, 09 Jun 2024) EllapsedTime: 115.9 seconds RetCode: 0 Status: OK PackageFile: vidger_1.24.0.tar.gz PackageFileSize: 8.695 MiB