Package: vidger Version: 1.24.0 Command: /home/biocbuild/R/R-beta-2024-04-15_r86425/bin/R CMD INSTALL vidger StartedAt: 2024-05-08 20:37:33 -0000 (Wed, 08 May 2024) EndedAt: 2024-05-08 20:38:19 -0000 (Wed, 08 May 2024) EllapsedTime: 46.2 seconds RetCode: 0 Status: OK