Package: vidger Version: 1.24.0 Command: /Library/Frameworks/R.framework/Resources/bin/R CMD check --install=check:vidger.install-out.txt --library=/Library/Frameworks/R.framework/Resources/library --no-vignettes --timings vidger_1.24.0.tar.gz StartedAt: 2024-10-18 16:30:11 -0400 (Fri, 18 Oct 2024) EndedAt: 2024-10-18 16:34:53 -0400 (Fri, 18 Oct 2024) EllapsedTime: 281.9 seconds RetCode: 0 Status: OK CheckDir: vidger.Rcheck Warnings: 0