Package: vidger Version: 1.24.0 Command: /Library/Frameworks/R.framework/Resources/bin/R CMD build --keep-empty-dirs --no-resave-data vidger StartedAt: 2024-10-17 11:23:18 -0400 (Thu, 17 Oct 2024) EndedAt: 2024-10-17 11:25:21 -0400 (Thu, 17 Oct 2024) EllapsedTime: 123.3 seconds RetCode: 0 Status: OK PackageFile: vidger_1.24.0.tar.gz PackageFileSize: 8.713 MiB