Package: veloviz Version: 1.10.0 Command: rm -rf veloviz.buildbin-libdir && mkdir veloviz.buildbin-libdir && /Users/biocbuild/BBS/utils/build-universal.sh veloviz_1.10.0.tar.gz /Library/Frameworks/R.framework/Resources/bin/R veloviz.buildbin-libdir StartedAt: 2024-06-10 00:45:13 -0400 (Mon, 10 Jun 2024) EndedAt: 2024-06-10 00:45:35 -0400 (Mon, 10 Jun 2024) EllapsedTime: 22.2 seconds RetCode: 0 Status: OK PackageFile: veloviz_1.10.0.tgz PackageFileSize: 3.668 MiB