Package: veloviz Version: 1.10.0 Command: /home/biocbuild/R/R-beta-2024-04-15_r86425/bin/R CMD check --install=check:veloviz.install-out.txt --library=/home/biocbuild/R/R-beta-2024-04-15_r86425/site-library --no-vignettes --timings veloviz_1.10.0.tar.gz StartedAt: 2024-05-08 13:03:57 -0000 (Wed, 08 May 2024) EndedAt: 2024-05-08 13:05:20 -0000 (Wed, 08 May 2024) EllapsedTime: 83.1 seconds RetCode: 0 Status: OK CheckDir: veloviz.Rcheck Warnings: 0