Package: veloviz Version: 1.10.0 Command: /home/biocbuild/R/R-beta-2024-04-15_r86425/bin/R CMD build --keep-empty-dirs --no-resave-data veloviz StartedAt: 2024-05-09 04:18:46 -0000 (Thu, 09 May 2024) EndedAt: 2024-05-09 04:19:19 -0000 (Thu, 09 May 2024) EllapsedTime: 33.0 seconds RetCode: 0 Status: OK PackageFile: veloviz_1.10.0.tar.gz PackageFileSize: 3.568 MiB