Package: velociraptor Version: 1.14.3 Command: F:\biocbuild\bbs-3.19-bioc\R\bin\R.exe CMD INSTALL velociraptor StartedAt: 2024-06-26 16:42:25 -0400 (Wed, 26 Jun 2024) EndedAt: 2024-06-26 16:42:59 -0400 (Wed, 26 Jun 2024) EllapsedTime: 34.4 seconds RetCode: 0 Status: OK