Package: velociraptor Version: 1.14.3 Command: /home/biocbuild/bbs-3.19-bioc/R/bin/R CMD build --keep-empty-dirs --no-resave-data velociraptor StartedAt: 2024-10-16 21:19:36 -0400 (Wed, 16 Oct 2024) EndedAt: 2024-10-16 21:22:12 -0400 (Wed, 16 Oct 2024) EllapsedTime: 155.3 seconds RetCode: 0 Status: OK PackageFile: velociraptor_1.14.3.tar.gz PackageFileSize: 769.4 KiB