Package: velociraptor Version: 1.14.3 Command: /Library/Frameworks/R.framework/Resources/bin/R CMD build --keep-empty-dirs --no-resave-data velociraptor StartedAt: 2024-10-17 00:13:54 -0400 (Thu, 17 Oct 2024) EndedAt: 2024-10-17 00:18:30 -0400 (Thu, 17 Oct 2024) EllapsedTime: 276.0 seconds RetCode: 0 Status: OK PackageFile: velociraptor_1.14.3.tar.gz PackageFileSize: 851.1 KiB