Package: velociraptor Version: 1.14.3 Command: rm -rf velociraptor.buildbin-libdir && mkdir velociraptor.buildbin-libdir && /Users/biocbuild/BBS/utils/build-universal.sh velociraptor_1.14.3.tar.gz /Library/Frameworks/R.framework/Resources/bin/R velociraptor.buildbin-libdir StartedAt: 2024-10-17 17:25:35 -0400 (Thu, 17 Oct 2024) EndedAt: 2024-10-17 17:26:32 -0400 (Thu, 17 Oct 2024) EllapsedTime: 57.2 seconds RetCode: 0 Status: OK PackageFile: velociraptor_1.14.3.tgz PackageFileSize: 905.5 KiB