Package: velociraptor Version: 1.14.3 Command: /Library/Frameworks/R.framework/Resources/bin/R CMD INSTALL velociraptor StartedAt: 2024-10-16 18:23:31 -0400 (Wed, 16 Oct 2024) EndedAt: 2024-10-16 18:23:57 -0400 (Wed, 16 Oct 2024) EllapsedTime: 25.3 seconds RetCode: 0 Status: OK