Package: vbmp Version: 1.72.0 Command: chmod a+r vbmp -R && F:\biocbuild\bbs-3.19-bioc\R\bin\R.exe CMD build --keep-empty-dirs --no-resave-data vbmp StartedAt: 2024-06-26 22:31:52 -0400 (Wed, 26 Jun 2024) EndedAt: 2024-06-26 22:32:51 -0400 (Wed, 26 Jun 2024) EllapsedTime: 58.6 seconds RetCode: 0 Status: OK PackageFile: vbmp_1.72.0.tar.gz PackageFileSize: 1.647 MiB