Package: vbmp Version: 1.72.0 Command: /home/biocbuild/bbs-3.19-bioc/R/bin/R CMD build --keep-empty-dirs --no-resave-data vbmp StartedAt: 2024-10-16 21:18:53 -0400 (Wed, 16 Oct 2024) EndedAt: 2024-10-16 21:19:26 -0400 (Wed, 16 Oct 2024) EllapsedTime: 33.1 seconds RetCode: 0 Status: OK PackageFile: vbmp_1.72.0.tar.gz PackageFileSize: 1.645 MiB