Package: variancePartition Version: 1.34.0 Command: chmod a+r variancePartition -R && E:\biocbuild\bbs-3.19-bioc\R\bin\R.exe CMD build --keep-empty-dirs --no-resave-data variancePartition StartedAt: 2024-10-16 22:28:55 -0400 (Wed, 16 Oct 2024) EndedAt: 2024-10-16 22:41:49 -0400 (Wed, 16 Oct 2024) EllapsedTime: 774.9 seconds RetCode: 0 Status: OK PackageFile: variancePartition_1.34.0.tar.gz PackageFileSize: 3.867 MiB