Package: variancePartition Version: 1.34.0 Command: rm -rf variancePartition.buildbin-libdir && mkdir variancePartition.buildbin-libdir && E:\biocbuild\bbs-3.19-bioc\R\bin\R.exe CMD INSTALL --build --library=variancePartition.buildbin-libdir variancePartition_1.34.0.tar.gz StartedAt: 2024-10-17 08:50:01 -0400 (Thu, 17 Oct 2024) EndedAt: 2024-10-17 08:52:27 -0400 (Thu, 17 Oct 2024) EllapsedTime: 145.6 seconds RetCode: 0 Status: OK PackageFile: variancePartition_1.34.0.zip PackageFileSize: 4.012 MiB