Package: variancePartition Version: 1.34.0 Command: chmod a+r variancePartition -R && F:\biocbuild\bbs-3.19-bioc\R\bin\R.exe CMD build --keep-empty-dirs --no-resave-data variancePartition StartedAt: 2024-06-26 22:31:18 -0400 (Wed, 26 Jun 2024) EndedAt: 2024-06-26 22:44:59 -0400 (Wed, 26 Jun 2024) EllapsedTime: 820.9 seconds RetCode: 0 Status: OK PackageFile: variancePartition_1.34.0.tar.gz PackageFileSize: 3.867 MiB