Package: variancePartition Version: 1.34.0 Command: /home/biocbuild/bbs-3.19-bioc/R/bin/R CMD build --keep-empty-dirs --no-resave-data variancePartition StartedAt: 2024-10-16 21:17:54 -0400 (Wed, 16 Oct 2024) EndedAt: 2024-10-16 21:28:13 -0400 (Wed, 16 Oct 2024) EllapsedTime: 618.8 seconds RetCode: 0 Status: OK PackageFile: variancePartition_1.34.0.tar.gz PackageFileSize: 4.499 MiB