Package: variancePartition Version: 1.34.0 Command: /home/biocbuild/R/R-beta-2024-04-15_r86425/bin/R CMD INSTALL variancePartition StartedAt: 2024-05-08 20:44:31 -0000 (Wed, 08 May 2024) EndedAt: 2024-05-08 20:44:58 -0000 (Wed, 08 May 2024) EllapsedTime: 27.2 seconds RetCode: 0 Status: OK