Package: variancePartition Version: 1.34.0 Command: rm -rf variancePartition.buildbin-libdir && mkdir variancePartition.buildbin-libdir && /Users/biocbuild/BBS/utils/build-universal.sh variancePartition_1.34.0.tar.gz /Library/Frameworks/R.framework/Resources/bin/R variancePartition.buildbin-libdir StartedAt: 2024-06-11 13:40:10 -0400 (Tue, 11 Jun 2024) EndedAt: 2024-06-11 13:40:39 -0400 (Tue, 11 Jun 2024) EllapsedTime: 29.6 seconds RetCode: 0 Status: OK PackageFile: variancePartition_1.34.0.tgz PackageFileSize: 5.108 MiB