Package: variancePartition Version: 1.34.0 Command: /Library/Frameworks/R.framework/Resources/bin/R CMD INSTALL variancePartition StartedAt: 2024-10-16 16:21:35 -0400 (Wed, 16 Oct 2024) EndedAt: 2024-10-16 16:21:58 -0400 (Wed, 16 Oct 2024) EllapsedTime: 23.6 seconds RetCode: 0 Status: OK