Package: variancePartition Version: 1.34.0 Command: rm -rf variancePartition.buildbin-libdir && mkdir variancePartition.buildbin-libdir && /Users/biocbuild/BBS/utils/build-universal.sh variancePartition_1.34.0.tar.gz /Library/Frameworks/R.framework/Resources/bin/R variancePartition.buildbin-libdir StartedAt: 2024-10-15 20:46:26 -0400 (Tue, 15 Oct 2024) EndedAt: 2024-10-15 20:46:51 -0400 (Tue, 15 Oct 2024) EllapsedTime: 25.1 seconds RetCode: 0 Status: OK PackageFile: variancePartition_1.34.0.tgz PackageFileSize: 5.108 MiB