Package: updateObject Version: 1.8.0 Command: rm -rf updateObject.buildbin-libdir && mkdir updateObject.buildbin-libdir && F:\biocbuild\bbs-3.19-bioc\R\bin\R.exe CMD INSTALL --build --library=updateObject.buildbin-libdir updateObject_1.8.0.tar.gz StartedAt: 2024-06-27 09:05:14 -0400 (Thu, 27 Jun 2024) EndedAt: 2024-06-27 09:05:43 -0400 (Thu, 27 Jun 2024) EllapsedTime: 28.5 seconds RetCode: 0 Status: OK PackageFile: updateObject_1.8.0.zip PackageFileSize: 1.345 MiB