Package: updateObject Version: 1.8.0 Command: /Library/Frameworks/R.framework/Resources/bin/R CMD build --keep-empty-dirs --no-resave-data updateObject StartedAt: 2024-10-17 11:13:37 -0400 (Thu, 17 Oct 2024) EndedAt: 2024-10-17 11:14:09 -0400 (Thu, 17 Oct 2024) EllapsedTime: 31.1 seconds RetCode: 0 Status: OK PackageFile: updateObject_1.8.0.tar.gz PackageFileSize: 1.289 MiB