Package: universalmotif Version: 1.22.3 Command: E:\biocbuild\bbs-3.19-bioc\R\bin\R.exe CMD check --no-multiarch --install=check:universalmotif.install-out.txt --library=E:\biocbuild\bbs-3.19-bioc\R\library --no-vignettes --timings universalmotif_1.22.3.tar.gz StartedAt: 2024-10-17 06:47:30 -0400 (Thu, 17 Oct 2024) EndedAt: 2024-10-17 06:50:51 -0400 (Thu, 17 Oct 2024) EllapsedTime: 201.5 seconds RetCode: 0 Status: OK CheckDir: universalmotif.Rcheck Warnings: 0