Package: universalmotif Version: 1.22.3 Command: chmod a+r universalmotif -R && E:\biocbuild\bbs-3.19-bioc\R\bin\R.exe CMD build --keep-empty-dirs --no-resave-data universalmotif StartedAt: 2024-10-16 22:28:13 -0400 (Wed, 16 Oct 2024) EndedAt: 2024-10-16 22:33:39 -0400 (Wed, 16 Oct 2024) EllapsedTime: 326.2 seconds RetCode: 0 Status: OK PackageFile: universalmotif_1.22.3.tar.gz PackageFileSize: 3.551 MiB