Package: universalmotif Version: 1.22.3 Command: /home/biocbuild/bbs-3.19-bioc/R/bin/R CMD check --install=check:universalmotif.install-out.txt --library=/home/biocbuild/bbs-3.19-bioc/R/site-library --timings universalmotif_1.22.3.tar.gz StartedAt: 2024-10-17 06:11:41 -0400 (Thu, 17 Oct 2024) EndedAt: 2024-10-17 06:16:44 -0400 (Thu, 17 Oct 2024) EllapsedTime: 302.6 seconds RetCode: 0 Status: OK CheckDir: universalmotif.Rcheck Warnings: 0