Package: universalmotif Version: 1.22.3 Command: /Library/Frameworks/R.framework/Resources/bin/R CMD check --install=check:universalmotif.install-out.txt --library=/Library/Frameworks/R.framework/Resources/library --no-vignettes --timings universalmotif_1.22.3.tar.gz StartedAt: 2024-10-17 14:53:14 -0400 (Thu, 17 Oct 2024) EndedAt: 2024-10-17 14:59:23 -0400 (Thu, 17 Oct 2024) EllapsedTime: 368.2 seconds RetCode: 0 Status: OK CheckDir: universalmotif.Rcheck Warnings: 0