Package: universalmotif Version: 1.22.3 Command: rm -rf universalmotif.buildbin-libdir && mkdir universalmotif.buildbin-libdir && /Users/biocbuild/BBS/utils/build-universal.sh universalmotif_1.22.3.tar.gz /Library/Frameworks/R.framework/Resources/bin/R universalmotif.buildbin-libdir StartedAt: 2024-10-17 17:24:45 -0400 (Thu, 17 Oct 2024) EndedAt: 2024-10-17 17:28:34 -0400 (Thu, 17 Oct 2024) EllapsedTime: 228.9 seconds RetCode: 0 Status: OK PackageFile: universalmotif_1.22.3.tgz PackageFileSize: 5.565 MiB