Package: universalmotif Version: 1.22.0 Command: /Library/Frameworks/R.framework/Resources/bin/R CMD check --install=check:universalmotif.install-out.txt --library=/Library/Frameworks/R.framework/Resources/library --no-vignettes --timings universalmotif_1.22.0.tar.gz StartedAt: 2024-06-11 09:13:31 -0400 (Tue, 11 Jun 2024) EndedAt: 2024-06-11 09:17:28 -0400 (Tue, 11 Jun 2024) EllapsedTime: 237.6 seconds RetCode: 0 Status: OK CheckDir: universalmotif.Rcheck Warnings: 0