Package: universalmotif Version: 1.22.3 Command: /Library/Frameworks/R.framework/Resources/bin/R CMD check --install=check:universalmotif.install-out.txt --library=/Library/Frameworks/R.framework/Resources/library --no-vignettes --timings universalmotif_1.22.3.tar.gz StartedAt: 2024-10-18 16:12:55 -0400 (Fri, 18 Oct 2024) EndedAt: 2024-10-18 16:16:03 -0400 (Fri, 18 Oct 2024) EllapsedTime: 188.3 seconds RetCode: 0 Status: OK CheckDir: universalmotif.Rcheck Warnings: 0