Package: universalmotif Version: 1.22.3 Command: /Library/Frameworks/R.framework/Resources/bin/R CMD build --keep-empty-dirs --no-resave-data universalmotif StartedAt: 2024-10-17 11:12:59 -0400 (Thu, 17 Oct 2024) EndedAt: 2024-10-17 11:18:00 -0400 (Thu, 17 Oct 2024) EllapsedTime: 300.7 seconds RetCode: 0 Status: OK PackageFile: universalmotif_1.22.3.tar.gz PackageFileSize: 3.647 MiB