Package: unifiedWMWqPCR Version: 1.40.0 Command: chmod a+r unifiedWMWqPCR -R && E:\biocbuild\bbs-3.19-bioc\R\bin\R.exe CMD build --keep-empty-dirs --no-resave-data unifiedWMWqPCR StartedAt: 2024-10-16 22:28:04 -0400 (Wed, 16 Oct 2024) EndedAt: 2024-10-16 22:28:30 -0400 (Wed, 16 Oct 2024) EllapsedTime: 26.9 seconds RetCode: 0 Status: OK PackageFile: unifiedWMWqPCR_1.40.0.tar.gz PackageFileSize: 503 KiB