Package: unifiedWMWqPCR Version: 1.40.0 Command: /Library/Frameworks/R.framework/Resources/bin/R CMD build --keep-empty-dirs --no-resave-data unifiedWMWqPCR StartedAt: 2024-10-17 00:09:54 -0400 (Thu, 17 Oct 2024) EndedAt: 2024-10-17 00:10:32 -0400 (Thu, 17 Oct 2024) EllapsedTime: 38.0 seconds RetCode: 0 Status: OK PackageFile: unifiedWMWqPCR_1.40.0.tar.gz PackageFileSize: 501.8 KiB