Package: unifiedWMWqPCR Version: 1.40.0 Command: rm -rf unifiedWMWqPCR.buildbin-libdir && mkdir unifiedWMWqPCR.buildbin-libdir && /Users/biocbuild/BBS/utils/build-universal.sh unifiedWMWqPCR_1.40.0.tar.gz /Library/Frameworks/R.framework/Resources/bin/R unifiedWMWqPCR.buildbin-libdir StartedAt: 2024-10-17 17:24:41 -0400 (Thu, 17 Oct 2024) EndedAt: 2024-10-17 17:25:34 -0400 (Thu, 17 Oct 2024) EllapsedTime: 53.0 seconds RetCode: 0 Status: OK PackageFile: unifiedWMWqPCR_1.40.0.tgz PackageFileSize: 779.3 KiB