Package: unifiedWMWqPCR Version: 1.40.0 Command: /Library/Frameworks/R.framework/Resources/bin/R CMD INSTALL unifiedWMWqPCR StartedAt: 2024-06-09 15:07:15 -0400 (Sun, 09 Jun 2024) EndedAt: 2024-06-09 15:07:41 -0400 (Sun, 09 Jun 2024) EllapsedTime: 26.9 seconds RetCode: 0 Status: OK