Package: unifiedWMWqPCR Version: 1.40.0 Command: rm -rf unifiedWMWqPCR.buildbin-libdir && mkdir unifiedWMWqPCR.buildbin-libdir && /Users/biocbuild/BBS/utils/build-universal.sh unifiedWMWqPCR_1.40.0.tar.gz /Library/Frameworks/R.framework/Resources/bin/R unifiedWMWqPCR.buildbin-libdir StartedAt: 2024-06-10 00:44:58 -0400 (Mon, 10 Jun 2024) EndedAt: 2024-06-10 00:45:11 -0400 (Mon, 10 Jun 2024) EllapsedTime: 12.6 seconds RetCode: 0 Status: OK PackageFile: unifiedWMWqPCR_1.40.0.tgz PackageFileSize: 775.5 KiB