Package: unifiedWMWqPCR Version: 1.40.0 Command: /home/biocbuild/R/R-beta-2024-04-15_r86425/bin/R CMD check --install=check:unifiedWMWqPCR.install-out.txt --library=/home/biocbuild/R/R-beta-2024-04-15_r86425/site-library --no-vignettes --timings unifiedWMWqPCR_1.40.0.tar.gz StartedAt: 2024-05-08 12:59:18 -0000 (Wed, 08 May 2024) EndedAt: 2024-05-08 13:00:07 -0000 (Wed, 08 May 2024) EllapsedTime: 49.1 seconds RetCode: 0 Status: WARNINGS CheckDir: unifiedWMWqPCR.Rcheck Warnings: 1