Package: unifiedWMWqPCR Version: 1.40.0 Command: /home/biocbuild/R/R-beta-2024-04-15_r86425/bin/R CMD build --keep-empty-dirs --no-resave-data unifiedWMWqPCR StartedAt: 2024-05-09 04:16:22 -0000 (Thu, 09 May 2024) EndedAt: 2024-05-09 04:16:36 -0000 (Thu, 09 May 2024) EllapsedTime: 14.0 seconds RetCode: 0 Status: OK PackageFile: unifiedWMWqPCR_1.40.0.tar.gz PackageFileSize: 492.7 KiB