Package: unifiedWMWqPCR Version: 1.40.0 Command: rm -rf unifiedWMWqPCR.buildbin-libdir && mkdir unifiedWMWqPCR.buildbin-libdir && /Users/biocbuild/BBS/utils/build-universal.sh unifiedWMWqPCR_1.40.0.tar.gz /Library/Frameworks/R.framework/Resources/bin/R unifiedWMWqPCR.buildbin-libdir StartedAt: 2024-10-15 20:45:20 -0400 (Tue, 15 Oct 2024) EndedAt: 2024-10-15 20:45:32 -0400 (Tue, 15 Oct 2024) EllapsedTime: 11.5 seconds RetCode: 0 Status: OK PackageFile: unifiedWMWqPCR_1.40.0.tgz PackageFileSize: 779.1 KiB