Package: uncoverappLib Version: 1.14.0 Command: rm -rf uncoverappLib.buildbin-libdir && mkdir uncoverappLib.buildbin-libdir && E:\biocbuild\bbs-3.19-bioc\R\bin\R.exe CMD INSTALL --build --library=uncoverappLib.buildbin-libdir uncoverappLib_1.14.0.tar.gz StartedAt: 2024-10-17 08:49:44 -0400 (Thu, 17 Oct 2024) EndedAt: 2024-10-17 08:50:52 -0400 (Thu, 17 Oct 2024) EllapsedTime: 68.2 seconds RetCode: 0 Status: OK PackageFile: uncoverappLib_1.14.0.zip PackageFileSize: 2.842 MiB