Package: uncoverappLib Version: 1.14.0 Command: /home/biocbuild/bbs-3.19-bioc/R/bin/R CMD check --install=check:uncoverappLib.install-out.txt --library=/home/biocbuild/bbs-3.19-bioc/R/site-library --timings uncoverappLib_1.14.0.tar.gz StartedAt: 2024-10-17 06:10:38 -0400 (Thu, 17 Oct 2024) EndedAt: 2024-10-17 06:17:17 -0400 (Thu, 17 Oct 2024) EllapsedTime: 398.9 seconds RetCode: 0 Status: OK CheckDir: uncoverappLib.Rcheck Warnings: 0