Package: uncoverappLib Version: 1.14.0 Command: /Library/Frameworks/R.framework/Resources/bin/R CMD INSTALL uncoverappLib StartedAt: 2024-10-16 16:44:47 -0400 (Wed, 16 Oct 2024) EndedAt: 2024-10-16 16:46:57 -0400 (Wed, 16 Oct 2024) EllapsedTime: 129.8 seconds RetCode: 0 Status: OK