Package: uncoverappLib Version: 1.14.0 Command: rm -rf uncoverappLib.buildbin-libdir && mkdir uncoverappLib.buildbin-libdir && /Users/biocbuild/BBS/utils/build-universal.sh uncoverappLib_1.14.0.tar.gz /Library/Frameworks/R.framework/Resources/bin/R uncoverappLib.buildbin-libdir StartedAt: 2024-10-15 20:45:10 -0400 (Tue, 15 Oct 2024) EndedAt: 2024-10-15 20:46:36 -0400 (Tue, 15 Oct 2024) EllapsedTime: 85.3 seconds RetCode: 0 Status: OK PackageFile: uncoverappLib_1.14.0.tgz PackageFileSize: 2.832 MiB