Package: uSORT Version: 1.30.0 Command: /Library/Frameworks/R.framework/Resources/bin/R CMD build --keep-empty-dirs --no-resave-data uSORT StartedAt: 2024-06-10 06:23:52 -0400 (Mon, 10 Jun 2024) EndedAt: 2024-06-10 06:35:55 -0400 (Mon, 10 Jun 2024) EllapsedTime: 723.1 seconds RetCode: 0 Status: OK PackageFile: uSORT_1.30.0.tar.gz PackageFileSize: 2.814 MiB