Package: tximport Version: 1.32.0 Command: chmod a+r tximport -R && E:\biocbuild\bbs-3.19-bioc\R\bin\R.exe CMD build --keep-empty-dirs --no-resave-data tximport StartedAt: 2024-10-16 22:27:27 -0400 (Wed, 16 Oct 2024) EndedAt: 2024-10-16 22:28:42 -0400 (Wed, 16 Oct 2024) EllapsedTime: 74.2 seconds RetCode: 0 Status: OK PackageFile: tximport_1.32.0.tar.gz PackageFileSize: 308.7 KiB