Package: tximport Version: 1.32.0 Command: rm -rf tximport.buildbin-libdir && mkdir tximport.buildbin-libdir && E:\biocbuild\bbs-3.19-bioc\R\bin\R.exe CMD INSTALL --build --library=tximport.buildbin-libdir tximport_1.32.0.tar.gz StartedAt: 2024-10-17 08:49:36 -0400 (Thu, 17 Oct 2024) EndedAt: 2024-10-17 08:49:48 -0400 (Thu, 17 Oct 2024) EllapsedTime: 12.2 seconds RetCode: 0 Status: OK PackageFile: tximport_1.32.0.zip PackageFileSize: 357.2 KiB