Package: tximport Version: 1.32.0 Command: rm -rf tximport.buildbin-libdir && mkdir tximport.buildbin-libdir && F:\biocbuild\bbs-3.19-bioc\R\bin\R.exe CMD INSTALL --build --library=tximport.buildbin-libdir tximport_1.32.0.tar.gz StartedAt: 2024-06-27 09:04:59 -0400 (Thu, 27 Jun 2024) EndedAt: 2024-06-27 09:05:28 -0400 (Thu, 27 Jun 2024) EllapsedTime: 28.5 seconds RetCode: 0 Status: OK PackageFile: tximport_1.32.0.zip PackageFileSize: 357.2 KiB